BEGIN:VCALENDAR
VERSION:2.0
PRODID:Events Booking
BEGIN:VEVENT
UID:69e5e901cd62f
SUMMARY:Film Le chant des forêts
DESCRIPTION:Et si nous prenions le temps d’écouter ce que la forêt a à
  nous dire ?
 Nous vous invitons à un ciné-débat exceptionnel autour d
 u film Le Chant des Forêts de Vincent Munier\, œuvre sensible et intimis
 te tournée au cœur de sa forêt de cœur dans les Vosges. Un film contem
 platif qui nous plonge dans la beauté\, la fragilité et le silence du mo
 nde forestier.
LOCATION:Rue des Fraisiers - 60560 Orry-la-ville 
DTSTART:20260201T150000Z
DTEND:20260201T173000Z
DTSTAMP:20251226T145408Z
ORGANIZER;CN=Karuna Nature:MAILTO:contact@karuna-nature.com
GEO:49.130307;2.509764
X-APPLE-STRUCTURED-LOCATION;VALUE=URI;X-ADDRESS=Rue des Fraisiers - 60560 O
 rry-la-ville ;X-APPLE-RADIUS=72;X-TITLE=Cinedori:49.130307;2.509764
END:VEVENT
END:VCALENDAR